BEGIN:VCALENDAR
VERSION:2.0
PRODID:-//RIGHTHERE//CALENDARIZE IT V3.2//EN
BEGIN:VTIMEZONE
TZID:America/New_York
X-MICROSOFT-CDO-TZID:10
BEGIN:STANDARD
DTSTART:20251102T060000
TZOFFSETFROM:-0400
TZOFFSETTO:-0500
TZNAME:EST
END:STANDARD
BEGIN:DAYLIGHT
DTSTART:20260308T070000
TZOFFSETFROM:-0500
TZOFFSETTO:-0400
TZNAME:EDT
END:DAYLIGHT
BEGIN:STANDARD
DTSTART:20261101T060000
TZOFFSETFROM:-0400
TZOFFSETTO:-0500
TZNAME:EST
END:STANDARD
END:VTIMEZONE
BEGIN:VEVENT
UID:3214-events@www.stmarkboston.org
DTSTART;TZID=America/New_York:20220903T080000
DTEND;TZID=America/New_York:20220903T100000
DTSTAMP;TZID=America/New_York:20220903T210436
SUMMARY:Saturday Divine Liturgy
RRULE:FREQ=WEEKLY;INTERVAL=1
EXDATE:20220910T120000Z,20260404T120000Z,20260411T120000Z,20260905T120000Z
LOCATION:St. Mark Coptic Orthodox Church
END:VEVENT
END:VCALENDAR