BEGIN:VCALENDAR
VERSION:2.0
PRODID:-//RIGHTHERE//CALENDARIZE IT V3.2//EN
BEGIN:VTIMEZONE
TZID:America/New_York
X-MICROSOFT-CDO-TZID:10
BEGIN:STANDARD
DTSTART:20251102T060000
TZOFFSETFROM:-0400
TZOFFSETTO:-0500
TZNAME:EST
END:STANDARD
BEGIN:DAYLIGHT
DTSTART:20260308T070000
TZOFFSETFROM:-0500
TZOFFSETTO:-0400
TZNAME:EDT
END:DAYLIGHT
BEGIN:STANDARD
DTSTART:20261101T060000
TZOFFSETFROM:-0400
TZOFFSETTO:-0500
TZNAME:EST
END:STANDARD
END:VTIMEZONE
BEGIN:VEVENT
UID:2173-events@www.stmarkboston.org
DTSTART;TZID=America/New_York:20240112T183000
DTEND;TZID=America/New_York:20240112T200000
DTSTAMP;TZID=America/New_York:20200323T200105
SUMMARY:Arabic Bible Study with Fr. Angelos Girgis
RRULE:FREQ=WEEKLY;INTERVAL=1;BYDAY=FR;WKST=SU
EXDATE:20220401T223000Z,20220408T223000Z,20220415T223000Z,20220422T223000Z,
 20220429T223000Z,20220506T223000Z,20240112T223000Z,20240119T223000Z,202408
 02T223000Z,20260410T223000Z
RDATE;TZID=America/New_York;VALUE=PERIOD:20200330T210000/20200330T220000,20
 200406T210000/20200406T220000,20200427T210000/20200427T220000,20200504T210
 000/20200504T220000,20200601T210000/20200601T220000,20200608T210000/202006
 08T220000,20200615T210000/20200615T220000,20200622T210000/20200622T220000,
 20200629T210000/20200629T220000,20200706T210000/20200706T220000,20200713T2
 10000/20200713T220000,20200720T210000/20200720T220000,20200727T210000/2020
 0727T220000,20200803T210000/20200803T220000,20200810T210000/20200810T22000
 0,20200817T210000/20200817T220000,20200824T210000/20200824T220000,20200831
 T210000/20200831T220000,20200907T210000/20200907T220000,20200914T210000/20
 200914T220000,20200921T210000/20200921T220000,20200928T210000/20200928T220
 000,20201005T210000/20201005T220000,20201012T210000/20201012T220000,202010
 19T210000/20201019T220000,20201026T210000/20201026T220000,20201102T210000/
 20201102T220000,20201109T210000/20201109T220000,20201116T210000/20201116T2
 20000,20201123T210000/20201123T220000,20201130T210000/20201130T220000,2020
 1207T210000/20201207T220000,20201214T210000/20201214T220000,20201221T21000
 0/20201221T220000
LOCATION:St. Mark Coptic Orthodox Church
END:VEVENT
END:VCALENDAR